BEGIN:VCALENDAR
VERSION:2.0
PRODID:-//Le clos du Pausa - ECPv6.1.3//NONSGML v1.0//EN
CALSCALE:GREGORIAN
METHOD:PUBLISH
X-ORIGINAL-URL:http://leclosdupausa.com
X-WR-CALDESC:Ã©vÃ¨nements pour Le clos du Pausa
REFRESH-INTERVAL;VALUE=DURATION:PT1H
X-Robots-Tag:noindex
X-PUBLISHED-TTL:PT1H
BEGIN:VTIMEZONE
TZID:UTC
BEGIN:STANDARD
TZOFFSETFROM:+0000
TZOFFSETTO:+0000
TZNAME:UTC
DTSTART:20190101T000000
END:STANDARD
END:VTIMEZONE
BEGIN:VEVENT
DTSTART;VALUE=DATE:20190621
DTEND;VALUE=DATE:20190728
DTSTAMP:20260423T080905
CREATED:20171025T105815Z
LAST-MODIFIED:20190113T161913Z
UID:2391-1561075200-1564271999@leclosdupausa.com
SUMMARY:Spectacle des flammes Ã  la lumiÃ¨re
DESCRIPTION:Vivez Un Moment Dâ€™Ã©motion Exceptionnelle !\nLe plus grand spectacle dâ€™Europe sur 14-18 Le son et lumiÃ¨re de la bataille de Verdun Â« Des flammesâ€¦ Ã  la lumiÃ¨re Â» Â chaque vendredi et samedi soir du 21 juin au 27 juillet 2019 \nRevivez la Bataille de Verdun en un son et lumiÃ¨re saisissant de rÃ©alisme sur une des plus grandes scÃ¨nes naturelles de France ! 300 acteurs sur scÃ¨ne\, 900 costumes\, 1300 projecteurs\, actualitÃ©s cinÃ©matographiques dâ€™Ã©poque\, effets spÃ©ciauxâ€¦ Un hommage poignant Ã  ces centaines de milliers de combattants dont plus de 300 000 pÃ©rirent dans un face-Ã -face tragique en cette terre de Meuse. Une grande page de notre Histoire se dÃ©roule sous vos yeux en un son et lumiÃ¨re grandiose qui sâ€™achÃ¨ve sur une note dâ€™espÃ©rance : lâ€™Armistice\, la rÃ©conciliation et enfin la paix. \n  \nDans: 0000Days00Hrs00Min00Sec\n 
URL:http://leclosdupausa.com/event/spectacle-des-flammes-a-la-lumiere/
LOCATION:verdun\, CarriÃ¨res d'Haudainville\, Verdun\, 55000\, France
CATEGORIES:Culture,Spectacle
ATTACH;FMTTYPE=image/jpeg:http://leclosdupausa.com/wp-content/uploads/2017/10/des-flammes-a-la-lumiere-1.jpg
END:VEVENT
BEGIN:VEVENT
DTSTART;VALUE=DATE:20190721
DTEND;VALUE=DATE:20190729
DTSTAMP:20260423T080905
CREATED:20190113T164602Z
LAST-MODIFIED:20190113T164713Z
UID:2614-1563667200-1564358399@leclosdupausa.com
SUMMARY:Les vieux metiers en Juillet- Azannes
DESCRIPTION:  \nles dimanches 21 & 28 Juillet \n\n400 bÃ©nÃ©voles\n80 mÃ©tiers\n17 hectares de plaines et de forÃªts\n400 000 visiteurs les 10 derniÃ¨res annÃ©es\n2 000 m2 couverts\n6 000 m2 de parking gratuit\, en herbe\n\n  \n  \n 
URL:http://leclosdupausa.com/event/les-vieux-metiers-azannes-ete/
LOCATION:Azannes\, Domaine des Roises \, Azannes\, 55150\, France
CATEGORIES:Culture,Spectacle
ATTACH;FMTTYPE=image/jpeg:http://leclosdupausa.com/wp-content/uploads/2018/02/azanneMai.jpg
END:VEVENT
END:VCALENDAR