BEGIN:VCALENDAR
VERSION:2.0
PRODID:-//Le clos du Pausa - ECPv6.1.3//NONSGML v1.0//EN
CALSCALE:GREGORIAN
METHOD:PUBLISH
X-WR-CALNAME:Le clos du Pausa
X-ORIGINAL-URL:http://leclosdupausa.com
X-WR-CALDESC:Ã©vÃ¨nements pour Le clos du Pausa
REFRESH-INTERVAL;VALUE=DURATION:PT1H
X-Robots-Tag:noindex
X-PUBLISHED-TTL:PT1H
BEGIN:VTIMEZONE
TZID:UTC
BEGIN:STANDARD
TZOFFSETFROM:+0000
TZOFFSETTO:+0000
TZNAME:UTC
DTSTART:20190101T000000
END:STANDARD
END:VTIMEZONE
BEGIN:VEVENT
DTSTART;VALUE=DATE:20190505
DTEND;VALUE=DATE:20190506
DTSTAMP:20260423T105321
CREATED:20180217T195458Z
LAST-MODIFIED:20190113T164549Z
UID:2435-1557014400-1557100799@leclosdupausa.com
SUMMARY:Les vieux metiers en mai- Azannes
DESCRIPTION:  \nles dimanches 05\, 12\, 19\, 26\, 30 Mai et 02 juin \n\n400 bÃ©nÃ©voles\n80 mÃ©tiers\n17 hectares de plaines et de forÃªts\n400 000 visiteurs les 10 derniÃ¨res annÃ©es\n2 000 m2 couverts\n6 000 m2 de parking gratuit\, en herbe\n\nComme au mois de mai\, les artisans bÃ©nÃ©voles des Vieux MÃ©tiers vous donnent rendez vous les 21 et 28 juillet de 10h Ã  18h \n  \n 
URL:http://leclosdupausa.com/event/les-vieux-metiers-azannes/
LOCATION:Azannes\, Domaine des Roises \, Azannes\, 55150\, France
CATEGORIES:Culture,Spectacle
ATTACH;FMTTYPE=image/jpeg:http://leclosdupausa.com/wp-content/uploads/2018/02/azanneMai.jpg
END:VEVENT
END:VCALENDAR